BEGIN:VCALENDAR
VERSION:2.0
PRODID:-//217.160.0.167//NONSGML kigkonsult.se iCalcreator 2.20//
CALSCALE:GREGORIAN
METHOD:PUBLISH
X-WR-TIMEZONE:UTC
BEGIN:VEVENT
UID:event776@Gemeinde Bonstetten
DTSTAMP:20260419T135108Z
CATEGORIES:Gemeinde Bonstetten
DESCRIPTION:Daniel's Eiszeit beim Maifest\nVeranstalter: Gemeinde Bonstette
 n\nICS-Link: https://www.bonstetten.de/index.php?option=com_jem&view=event
 &id=776:daniel-s-eiszeit-beim-maifest\n
DTSTART;VALUE=DATE:20260417
DTEND;VALUE=DATE:20260518
SUMMARY:Daniel's Eiszeit beim Maifest
URL:https://www.bonstetten.de/index.php?option=com_jem&view=event&id=776:da
 niel-s-eiszeit-beim-maifest
END:VEVENT
BEGIN:VEVENT
UID:event756@Gemeinde Bonstetten
DTSTAMP:20260419T135108Z
CATEGORIES:Gemeinde Bonstetten
DESCRIPTION:Terminabsprache Vereine\nVeranstalter: Gemeinde Bonstetten\nICS
 -Link: https://www.bonstetten.de/index.php?option=com_jem&view=event&id=75
 6:terminabsprache-vereine\n
DTSTART;VALUE=DATE:20260421
DTEND;VALUE=DATE:20260422
SUMMARY:Terminabsprache Vereine
URL:https://www.bonstetten.de/index.php?option=com_jem&view=event&id=756:te
 rminabsprache-vereine
END:VEVENT
BEGIN:VEVENT
UID:event717@Gemeinde Bonstetten
DTSTAMP:20260419T135108Z
CATEGORIES:Gemeinde Bonstetten
DESCRIPTION:Theater Fritz und Freunde\nVeranstalter: Gemeinde Bonstetten\nI
 CS-Link: https://www.bonstetten.de/index.php?option=com_jem&view=event&id=
 717:theater-fritz-und-freunde\n
DTSTART:20260426T150000Z
DTEND:20260426T150000Z
SUMMARY:Theater Fritz und Freunde
URL:https://www.bonstetten.de/index.php?option=com_jem&view=event&id=717:th
 eater-fritz-und-freunde
END:VEVENT
BEGIN:VEVENT
UID:event777@Gemeinde Bonstetten
DTSTAMP:20260419T135108Z
CATEGORIES:Gemeinde Bonstetten
DESCRIPTION:Daniel`s Eiszeit\nVeranstalter: Gemeinde Bonstetten\nICS-Link: 
 https://www.bonstetten.de/index.php?option=com_jem&view=event&id=777:danie
 l-s-eiszeit\n
DTSTART;VALUE=DATE:20260530
DTEND;VALUE=DATE:20260531
SUMMARY:Daniel`s Eiszeit
URL:https://www.bonstetten.de/index.php?option=com_jem&view=event&id=777:da
 niel-s-eiszeit
END:VEVENT
BEGIN:VEVENT
UID:event768@Gemeinde Bonstetten
DTSTAMP:20260419T135108Z
CATEGORIES:Gemeinde Bonstetten
DESCRIPTION:Ratsch-Café\nVeranstalter: Gemeinde Bonstetten\nICS-Link: https
 ://www.bonstetten.de/index.php?option=com_jem&view=event&id=768:ratsch-caf
 e\n
DTSTART;VALUE=DATE:20260611
DTEND;VALUE=DATE:20260612
SUMMARY:Ratsch-Café
URL:https://www.bonstetten.de/index.php?option=com_jem&view=event&id=768:ra
 tsch-cafe
END:VEVENT
BEGIN:VEVENT
UID:event778@Gemeinde Bonstetten
DTSTAMP:20260419T135108Z
CATEGORIES:Gemeinde Bonstetten
DESCRIPTION:Daniel´s Eiszeit\nVeranstalter: Gemeinde Bonstetten\nICS-Link: 
 https://www.bonstetten.de/index.php?option=com_jem&view=event&id=778:danie
 l-s-eiszeit\n
DTSTART;VALUE=DATE:20260612
DTEND;VALUE=DATE:20260613
SUMMARY:Daniel´s Eiszeit
URL:https://www.bonstetten.de/index.php?option=com_jem&view=event&id=778:da
 niel-s-eiszeit
END:VEVENT
BEGIN:VEVENT
UID:event779@Gemeinde Bonstetten
DTSTAMP:20260419T135108Z
CATEGORIES:Gemeinde Bonstetten
DESCRIPTION:Daniel´s Eiszeit beim Feuerwehrfest\nVeranstalter: Gemeinde Bon
 stetten\nICS-Link: https://www.bonstetten.de/index.php?option=com_jem&view
 =event&id=779:daniel-s-eiszeit-beim-feuerwehrfest\n
DTSTART;VALUE=DATE:20260620
DTEND;VALUE=DATE:20260621
SUMMARY:Daniel´s Eiszeit beim Feuerwehrfest
URL:https://www.bonstetten.de/index.php?option=com_jem&view=event&id=779:da
 niel-s-eiszeit-beim-feuerwehrfest
END:VEVENT
BEGIN:VEVENT
UID:event780@Gemeinde Bonstetten
DTSTAMP:20260419T135108Z
CATEGORIES:Gemeinde Bonstetten
DESCRIPTION:Daniel´s Eiszeit beim Feuerwehrfest\nVeranstalter: Gemeinde Bon
 stetten\nICS-Link: https://www.bonstetten.de/index.php?option=com_jem&view
 =event&id=780:daniel-s-eiszeit-beim-feuerwehrfest\n
DTSTART;VALUE=DATE:20260621
DTEND;VALUE=DATE:20260622
SUMMARY:Daniel´s Eiszeit beim Feuerwehrfest
URL:https://www.bonstetten.de/index.php?option=com_jem&view=event&id=780:da
 niel-s-eiszeit-beim-feuerwehrfest
END:VEVENT
BEGIN:VEVENT
UID:event781@Gemeinde Bonstetten
DTSTAMP:20260419T135108Z
CATEGORIES:Gemeinde Bonstetten
DESCRIPTION:Daniel´s Eiszeit\nVeranstalter: Gemeinde Bonstetten\nICS-Link: 
 https://www.bonstetten.de/index.php?option=com_jem&view=event&id=781:danie
 l-s-eiszeit\n
DTSTART;VALUE=DATE:20260703
DTEND;VALUE=DATE:20260704
SUMMARY:Daniel´s Eiszeit
URL:https://www.bonstetten.de/index.php?option=com_jem&view=event&id=781:da
 niel-s-eiszeit
END:VEVENT
BEGIN:VEVENT
UID:event782@Gemeinde Bonstetten
DTSTAMP:20260419T135108Z
CATEGORIES:Gemeinde Bonstetten
DESCRIPTION:Daniel´s Eiszeit\nVeranstalter: Gemeinde Bonstetten\nICS-Link: 
 https://www.bonstetten.de/index.php?option=com_jem&view=event&id=782:danie
 l-s-eiszeit\n
DTSTART;VALUE=DATE:20260717
DTEND;VALUE=DATE:20260718
SUMMARY:Daniel´s Eiszeit
URL:https://www.bonstetten.de/index.php?option=com_jem&view=event&id=782:da
 niel-s-eiszeit
END:VEVENT
BEGIN:VEVENT
UID:event783@Gemeinde Bonstetten
DTSTAMP:20260419T135108Z
CATEGORIES:Gemeinde Bonstetten
DESCRIPTION:Daniel´s Eiszeit\nVeranstalter: Gemeinde Bonstetten\nICS-Link: 
 https://www.bonstetten.de/index.php?option=com_jem&view=event&id=783:danie
 l-s-eiszeit\n
DTSTART;VALUE=DATE:20260731
DTEND;VALUE=DATE:20260801
SUMMARY:Daniel´s Eiszeit
URL:https://www.bonstetten.de/index.php?option=com_jem&view=event&id=783:da
 niel-s-eiszeit
END:VEVENT
BEGIN:VEVENT
UID:event715@Gemeinde Bonstetten
DTSTAMP:20260419T135108Z
CATEGORIES:Gemeinde Bonstetten
DESCRIPTION:Problemmüllsammlung\nVeranstalter: Gemeinde Bonstetten\nICS-Lin
 k: https://www.bonstetten.de/index.php?option=com_jem&view=event&id=715:pr
 oblemmuellsammlung\n
DTSTART:20261103T133000Z
DTEND:20261103T143000Z
SUMMARY:Problemmüllsammlung
URL:https://www.bonstetten.de/index.php?option=com_jem&view=event&id=715:pr
 oblemmuellsammlung
END:VEVENT
END:VCALENDAR
